BEGIN:VCALENDAR
VERSION:2.0
PRODID:-//Stacia&#039;s Brite Little Something - ECPv6.15.20//NONSGML v1.0//EN
CALSCALE:GREGORIAN
METHOD:PUBLISH
X-ORIGINAL-URL:https://staciasbls.org
X-WR-CALDESC:Events for Stacia&#039;s Brite Little Something
REFRESH-INTERVAL;VALUE=DURATION:PT1H
X-Robots-Tag:noindex
X-PUBLISHED-TTL:PT1H
BEGIN:VTIMEZONE
TZID:America/Los_Angeles
BEGIN:DAYLIGHT
TZOFFSETFROM:-0800
TZOFFSETTO:-0700
TZNAME:PDT
DTSTART:20200308T100000
END:DAYLIGHT
BEGIN:STANDARD
TZOFFSETFROM:-0700
TZOFFSETTO:-0800
TZNAME:PST
DTSTART:20201101T090000
END:STANDARD
BEGIN:DAYLIGHT
TZOFFSETFROM:-0800
TZOFFSETTO:-0700
TZNAME:PDT
DTSTART:20210314T100000
END:DAYLIGHT
BEGIN:STANDARD
TZOFFSETFROM:-0700
TZOFFSETTO:-0800
TZNAME:PST
DTSTART:20211107T090000
END:STANDARD
BEGIN:DAYLIGHT
TZOFFSETFROM:-0800
TZOFFSETTO:-0700
TZNAME:PDT
DTSTART:20220313T100000
END:DAYLIGHT
BEGIN:STANDARD
TZOFFSETFROM:-0700
TZOFFSETTO:-0800
TZNAME:PST
DTSTART:20221106T090000
END:STANDARD
BEGIN:DAYLIGHT
TZOFFSETFROM:-0800
TZOFFSETTO:-0700
TZNAME:PDT
DTSTART:20230312T100000
END:DAYLIGHT
BEGIN:STANDARD
TZOFFSETFROM:-0700
TZOFFSETTO:-0800
TZNAME:PST
DTSTART:20231105T090000
END:STANDARD
BEGIN:DAYLIGHT
TZOFFSETFROM:-0800
TZOFFSETTO:-0700
TZNAME:PDT
DTSTART:20240310T100000
END:DAYLIGHT
BEGIN:STANDARD
TZOFFSETFROM:-0700
TZOFFSETTO:-0800
TZNAME:PST
DTSTART:20241103T090000
END:STANDARD
BEGIN:DAYLIGHT
TZOFFSETFROM:-0800
TZOFFSETTO:-0700
TZNAME:PDT
DTSTART:20250309T100000
END:DAYLIGHT
BEGIN:STANDARD
TZOFFSETFROM:-0700
TZOFFSETTO:-0800
TZNAME:PST
DTSTART:20251102T090000
END:STANDARD
BEGIN:DAYLIGHT
TZOFFSETFROM:-0800
TZOFFSETTO:-0700
TZNAME:PDT
DTSTART:20260308T100000
END:DAYLIGHT
BEGIN:STANDARD
TZOFFSETFROM:-0700
TZOFFSETTO:-0800
TZNAME:PST
DTSTART:20261101T090000
END:STANDARD
BEGIN:DAYLIGHT
TZOFFSETFROM:-0800
TZOFFSETTO:-0700
TZNAME:PDT
DTSTART:20270314T100000
END:DAYLIGHT
BEGIN:STANDARD
TZOFFSETFROM:-0700
TZOFFSETTO:-0800
TZNAME:PST
DTSTART:20271107T090000
END:STANDARD
END:VTIMEZONE
BEGIN:VEVENT
DTSTART;TZID=America/Los_Angeles:20260228T070000
DTEND;TZID=America/Los_Angeles:20260228T150000
DTSTAMP:20260423T094148
CREATED:20260121T072732Z
LAST-MODIFIED:20260121T073258Z
UID:4771-1772262000-1772290800@staciasbls.org
SUMMARY:2026 SBLS Fundraiser 4th Annual Yard Sale
DESCRIPTION:Please come by and support Stacia’s Brite Little Something Inc. 4th annual fund raiser yard sale!\nWe are located at 30432 Canyon Point Circle Menifee\, Ca.
URL:https://staciasbls.org/event/2026-sbls-fundraiser-annual-yard-sale/
CATEGORIES:Fundraiser
END:VEVENT
BEGIN:VEVENT
DTSTART;TZID=America/Los_Angeles:20251208T080000
DTEND;TZID=America/Los_Angeles:20260121T083000
DTSTAMP:20260423T094148
CREATED:20260121T082323Z
LAST-MODIFIED:20260121T083607Z
UID:4777-1765180800-1768984200@staciasbls.org
SUMMARY:2025 Annual Donation- Miller's Children's Hospital of Long Beach\, Ca.
DESCRIPTION:Our annual donation to Miller’s Children’s Hospital of Long Beach\, Ca. was a big success! We collected and filled\n200 activity packets as a way of providing comfort for kids undergoing treatment. This year we included our very\nown Sloth coloring book!\nEach year we look forward to supporting the kids and amazing staff at Miller’s! \n \n  \nStacia’s Bright Little Something Foundation bedside packets 2025
URL:https://staciasbls.org/event/2025-annual-donation-millers-childrens-hospital-of-long-beach-ca/
CATEGORIES:Donation Drive
END:VEVENT
BEGIN:VEVENT
DTSTART;TZID=America/Los_Angeles:20250607T120000
DTEND;TZID=America/Los_Angeles:20250607T130000
DTSTAMP:20260423T094148
CREATED:20250608T054919Z
LAST-MODIFIED:20250608T055912Z
UID:4672-1749297600-1749301200@staciasbls.org
SUMMARY:Retreivers and Friends Donation Drop Off
DESCRIPTION:Today we dropped off some more pet supplies to our good friends at Retrievers and Friends. We had a great time visiting with Liz\, Nancy\, and Sasha and of course we had to take a look at all the cute dogs and cats just waiting for a good home! \n!
URL:https://staciasbls.org/event/retreivers-and-friends-donation-drop-off/
ORGANIZER;CN="Stacia's Brite Little Something":MAILTO:staciasbls@gmail.com
END:VEVENT
BEGIN:VEVENT
DTSTART;TZID=America/Los_Angeles:20250605T170000
DTEND;TZID=America/Los_Angeles:20250605T190000
DTSTAMP:20260423T094148
CREATED:20250328T054314Z
LAST-MODIFIED:20250607T064617Z
UID:4657-1749142800-1749150000@staciasbls.org
SUMMARY:2025 Paloma Valley High School Senior Scholarship
DESCRIPTION:The results are in for this year’s deserving winners of our  Scholarship Award. Congratulations to Nichole Liu and Alessandra Pimentel! We  presented each of them a $500.00 cashiers check at the PVHS Senior Award Night  June 5. We are very impressed with these two students and wish them well in their future studies and chosen careers!
URL:https://staciasbls.org/event/2025-paloma-valley-high-school-senior-scholarship/
ATTACH;FMTTYPE=image/jpeg:https://staciasbls.org/wp-content/uploads/2025/03/20250605_184843-scaled.jpg
END:VEVENT
BEGIN:VEVENT
DTSTART;TZID=America/Los_Angeles:20250315T073000
DTEND;TZID=America/Los_Angeles:20250315T150000
DTSTAMP:20260423T094148
CREATED:20250119T210745Z
LAST-MODIFIED:20250328T051548Z
UID:4627-1742023800-1742050800@staciasbls.org
SUMMARY:SBLS Fundraiser Annual Yardsale
DESCRIPTION:Our 3rd annual fundraising yard sale held March 15\, 2025 was a HUGE success! A big thank you to our community for supporting us\, the funds raised will help us support our growing list of worthy charitable organizations and individuals in need. Congratulations to the lucky winners of our opportunity drawing!
URL:https://staciasbls.org/event/sbls-fundraiser-annual-yardsale/
LOCATION:Charity Garage Sale Location\, 30432 Canyon Point Circle\, Menifee\, CA\, 92584\, United States
CATEGORIES:Fundraiser
ATTACH;FMTTYPE=image/jpeg:https://staciasbls.org/wp-content/uploads/2025/01/20240224_070555-scaled.jpg
ORGANIZER;CN="Stacia's Brite Little Something":MAILTO:staciasbls@gmail.com
END:VEVENT
BEGIN:VEVENT
DTSTART;TZID=America/Los_Angeles:20231108T110000
DTEND;TZID=America/Los_Angeles:20231108T220000
DTSTAMP:20260423T094148
CREATED:20231030T043340Z
LAST-MODIFIED:20231030T045345Z
UID:4588-1699441200-1699480800@staciasbls.org
SUMMARY:Fundraiser at Red Robin (Menifee\, CA)
DESCRIPTION:SBLS has EXCITING news! We will be offering a $500 scholarship to one 2024 graduating senior from Paloma Valley High School (Stacia’s alma mater). We are currently working with their senior adviser on the logistics and in the meantime\, we are kicking things off with a fundraiser at the Red Robin in Menifee on Wednesday\, November 8\, 2023 (Stacia’s birthday). \n\nStacia’s Brite Little Something will receive 20% of all dine-in or takeout orders (excluding alcohol and gift cards). All you need to do to help support our fundraiser is to show the flyer or if you are ordering a pick-up order\, please follow the instructions on the flyer (unfortunately\, the fundraiser doesn’t apply to food delivery services such as Grub Hub or Uber Eats). \nIf we have a super successful fundraiser\, we may even be able to increase the scholarship amount! We hope to continue this every year\, so please share this information and flyer with your neighbors\, friends\, and family!
URL:https://staciasbls.org/event/fundraiser-at-red-robin-menifee-ca/
LOCATION:Red Robin (Menifee\, CA)\, 30142 Haun Rd\, Menifee\, CA\, 92584\, United States
CATEGORIES:Community Engagement,Fundraiser
ATTACH;FMTTYPE=image/jpeg:https://staciasbls.org/wp-content/uploads/2023/10/redrobin.jpg
ORGANIZER;CN="Stacia's Brite Little Something":MAILTO:staciasbls@gmail.com
END:VEVENT
BEGIN:VEVENT
DTSTART;TZID=America/Los_Angeles:20230624T160000
DTEND;TZID=America/Los_Angeles:20230624T220000
DTSTAMP:20260423T094148
CREATED:20230308T044053Z
LAST-MODIFIED:20230621T072051Z
UID:26-1687622400-1687644000@staciasbls.org
SUMMARY:City of Menifee Independence Celebration
DESCRIPTION:SBLS will be participating in the Menifee Independence Celebration on Saturday\, June 24th\, 2023 at Wheatfield Park. We will have a booth at the fair which opens at 4:00 PM… drop by and say hello! We are selling tickets for an opportunity drawing for $1 per ticket (prizes include several gift cards!) In addition\, come check out our Sloth Army float in the parade  on La Piedra Road (next to the park) which begins at 5:00 PM! Finish the night off with a fireworks spectacular at 9:00 PM!
URL:https://staciasbls.org/event/menifee-independence-celebration-2023/
LOCATION:Wheatfield Park\, 30627 Menifee Road\, Menifee\, 92584
CATEGORIES:Community Engagement,Fundraiser
ATTACH;FMTTYPE=image/jpeg:https://staciasbls.org/wp-content/uploads/2023/06/Fireworks.jpg
END:VEVENT
BEGIN:VEVENT
DTSTART;TZID=America/Los_Angeles:20230610T083000
DTEND;TZID=America/Los_Angeles:20230610T133000
DTSTAMP:20260423T094148
CREATED:20230622T054721Z
LAST-MODIFIED:20230622T054721Z
UID:4489-1686385800-1686403800@staciasbls.org
SUMMARY:2023 Pet Supplies Donation Day!
DESCRIPTION:Through the generosity of our volunteers and supporters\, we are ready to drop off the supplies raised for our two local animal rescues\, Retrievers and Friends and A Passion for Paws! If you are able to help load and deliver the supplies\, please meet at the address below at 8:30 AM. We look forward to another strong turnout this year!
URL:https://staciasbls.org/event/2023-pet-supplies-donation-day/
LOCATION:Pet Donation Meet-Up Location\, 29735 Brookfield Drive\, Menifee\, CA\, 92586\, United States
CATEGORIES:Community Engagement,Donation Drive
ATTACH;FMTTYPE=image/jpeg:https://staciasbls.org/wp-content/uploads/2017/10/staciasbls_169312327_184986636618572_7548070826285947461_n-1.jpg
ORGANIZER;CN="Stacia's Brite Little Something":MAILTO:staciasbls@gmail.com
END:VEVENT
BEGIN:VEVENT
DTSTART;VALUE=DATE:20230301
DTEND;VALUE=DATE:20230501
DTSTAMP:20260423T094148
CREATED:20230622T054045Z
LAST-MODIFIED:20230622T054045Z
UID:4485-1677628800-1682899199@staciasbls.org
SUMMARY:Pet Supplies Donation Drive 2023!
DESCRIPTION:It’s that time again! For our first donation drive\, we are collecting supplies to benefit two local animal rescues: the amazing Retrievers and Friends and the equally awesome\, A Passion for Paws! This is our third year doing this drive and both organizations are always so grateful for any help we can provide so let’s show them some love!  \n\nThese organizations have been awesome and provided us with a donation list for this year. We have created an Amazon wish list (https://a.co/iKs6i9X)\, for those who would like to help contribute through Amazon. If you do purchase through them and would like to drop off or send donations\, we are collecting items at the following address:\n\n\n\nStacia’s BLS\nc/o Stephanie Vaughn\n30432 Canyon Point Circle\nMenifee\, CA 92584\n\n\n\nAlso\, there are a few non-Amazon related items that we are looking to collect such as:\n\n\n\n50′ Garden Hoses\nWheelbarrows\nNatural Chemistry Natural Flea & Tick Shampoo for Dogs (available through Chewy.com)\nRedbarn Naturals Pig Ear Chews (available through Redbarn.com)\nChew Proof Armored Rip-Stop Elevated Dog Bed (Size XXL for the Akitas) (available through K9 Ballistics)\n\n\n\nIf you would like to make a monetary donation\, you can do so through PayPal (staciasbls@gmail.com) and Venmo (@staciasbls1984).
URL:https://staciasbls.org/event/pet-supplies-donation-drive-2023/
LOCATION:Amazon Purchases Delivery Address\, 30432 Canyon Point Circle\, Menifee\, CA\, 92584\, United States
CATEGORIES:Community Engagement,Donation Drive
ATTACH;FMTTYPE=image/jpeg:https://staciasbls.org/wp-content/uploads/2023/06/stacia_cocobear.jpg
ORGANIZER;CN="Stacia's Brite Little Something":MAILTO:staciasbls@gmail.com
END:VEVENT
BEGIN:VEVENT
DTSTART;TZID=America/Los_Angeles:20221105T073000
DTEND;TZID=America/Los_Angeles:20221105T150000
DTSTAMP:20260423T094148
CREATED:20230622T052948Z
LAST-MODIFIED:20230622T052948Z
UID:4480-1667633400-1667660400@staciasbls.org
SUMMARY:Charity Garage Sale & Opportunity Drawing!
DESCRIPTION:Swing by for our charity garage sale benefiting our foundation at 30432 Canyon Pointe Circle\, Menifee\, CA 92584 (we are in the development near the corner of La Piedra & Murrieta).\n\n\n\nEach purchase gets a ticket for an opportunity drawing of your choice! Prizes include $25 Olive Garden gift card\, $50 Lucille’s gift card\, $100 Hobby Lobby gift card\, $15 Subway gift card\, a Hello Kitty purse ($40 value)\, or Fitbit Inspire!
URL:https://staciasbls.org/event/charity-garage-sale-opportunity-drawing/
LOCATION:Charity Garage Sale Location\, 30432 Canyon Point Circle\, Menifee\, CA\, 92584\, United States
CATEGORIES:Fundraiser
ATTACH;FMTTYPE=image/jpeg:https://staciasbls.org/wp-content/uploads/2023/06/garagesale.jpeg
ORGANIZER;CN="Stacia's Brite Little Something":MAILTO:staciasbls@gmail.com
END:VEVENT
BEGIN:VEVENT
DTSTART;TZID=America/Los_Angeles:20221030T160000
DTEND;TZID=America/Los_Angeles:20221030T183000
DTSTAMP:20260423T094148
CREATED:20230622T045816Z
LAST-MODIFIED:20230622T045856Z
UID:4473-1667145600-1667154600@staciasbls.org
SUMMARY:Trunk or Treat Car Show
DESCRIPTION:Join the SBLS Sloth Army for a spooky good time at the Trunk or Treat Car Show at Archibald’s on Sunday\, October 30th! \n 
URL:https://staciasbls.org/event/trunk-or-treat-car-show/
LOCATION:Archibald’s\, 28881 Newport Road\, Menifee\, CA\, 92584\, United States
CATEGORIES:Community Engagement,Donation Drive
ATTACH;FMTTYPE=image/jpeg:https://staciasbls.org/wp-content/uploads/2023/06/TrunkorTreat2022.jpg
ORGANIZER;CN="Archibald's":MAILTO:contact@archibaldsinc.com
END:VEVENT
BEGIN:VEVENT
DTSTART;VALUE=DATE:20220801
DTEND;VALUE=DATE:20220901
DTSTAMP:20260423T094148
CREATED:20230622T044904Z
LAST-MODIFIED:20230622T045101Z
UID:4469-1659312000-1661990399@staciasbls.org
SUMMARY:Fundraiser for Boys & Girls Clubs of Inland Valley Supplies
DESCRIPTION:As we continue on towards the end of the year\, we grow closer to Stacia’s birthday on November 8th. In conjunction with our work involving the Boys & Girls Clubs of Inland Valley\, we are starting up a fundraiser to purchase supplies for this organization. We have been provided a solid list and feel that with everyone’s help we can help all of these children.\n\nWith a small donation of $5\, you can provide a child with up to six pieces of educational and/or artistic quality including\, but not limited to:\n\nPaints \nPaintbrushes\nConstruction Paper \nMarkers \nScissors \nPoster Boards\nWatercolor Trays\nAnd many more…\n\nWe hope you are all able to help in providing the community with some much needed support in Stacia’s memory.\nDonations can be accepted either through Facebook (Facebook Fundraiser)\, Venmo (@staciasbls1984)\, or PayPal (staciasbls@gmail.com)\n\nThank you all for the caring support and encouragement.
URL:https://staciasbls.org/event/fundraiser-for-boys-girls-clubs-supplies/
CATEGORIES:Fundraiser
ATTACH;FMTTYPE=image/jpeg:https://staciasbls.org/wp-content/uploads/2023/06/stacia-crayon.jpg
ORGANIZER;CN="Stacia's Brite Little Something":MAILTO:staciasbls@gmail.com
END:VEVENT
BEGIN:VEVENT
DTSTART;VALUE=DATE:20220601
DTEND;VALUE=DATE:20220701
DTSTAMP:20260423T094148
CREATED:20230622T043417Z
LAST-MODIFIED:20230622T043417Z
UID:4467-1654041600-1656633599@staciasbls.org
SUMMARY:Christmas in July 2022 Donation Drive
DESCRIPTION:As we end May and head into June\, Stacia’s Brite Little Something is preparing for the Christmas in July donations for the City of Hope Duarte’s Pediatric Wing!\n\nWe will be donating gift bags once more and have already received approval from the hospital for the bags in July. If you are able to help contribute to supplies that would be fantastic; however\, even if you are unable to\, we love the support all of your members show each day! Listed below is a list of items we are collecting\, along with the pack sizes (if available). A lot of these items can be purchased from either Amazon or Dollar Tree.\n\nColored Pencils (Ideally Packs of 8\, 10 or 16)\nCrayons (Ideally Packs of 8 or 16)\nColoring Books\nActivity Books\nPuzzle Books\nStickers\nColored Pens (Ideally Packs of 8\, 10\, or 16)\nPencil Sharpeners\nCrossword Puzzles\n\nThank you to everyone for the support and we love you all!
URL:https://staciasbls.org/event/christmas-in-july-2022-donation-drive/
LOCATION:Donation Drive Location\, 29735 Brookfield Drive\, Menifee\, CA\, 92586\, United States
CATEGORIES:Donation Drive
ATTACH;FMTTYPE=image/png:https://staciasbls.org/wp-content/uploads/2023/06/City-of-hope.png
ORGANIZER;CN="Stacia's Brite Little Something":MAILTO:staciasbls@gmail.com
END:VEVENT
BEGIN:VEVENT
DTSTART;TZID=America/Los_Angeles:20220521T110000
DTEND;TZID=America/Los_Angeles:20220521T140000
DTSTAMP:20260423T094148
CREATED:20230621T073103Z
LAST-MODIFIED:20230621T073103Z
UID:4392-1653130800-1653141600@staciasbls.org
SUMMARY:Pet Supplies Donation Event 2022
DESCRIPTION:It’s that time of year again! We will be collecting and donating pet supplies to A Passion for Paws Rescue\, Inc. and Retrievers and Friends! Come join us as we help support these amazing local organizations! \n\nA Passion for Paws (10:00 AM) – 28930 Ellis Avenue\, Romoland\, CA 92585\nRetrievers and Friends (2:00 PM) – 26510 Murrieta Road\, Menifee\, CA 92585
URL:https://staciasbls.org/event/pet-supplies-donation-event-2022/
LOCATION:Pet Donation Meet-Up Location\, 29735 Brookfield Drive\, Menifee\, CA\, 92586\, United States
CATEGORIES:Community Engagement,Donation Drive
ATTACH;FMTTYPE=image/jpeg:https://staciasbls.org/wp-content/uploads/2023/06/stacia-babydog.jpg
ORGANIZER;CN="Stacia's Brite Little Something":MAILTO:staciasbls@gmail.com
END:VEVENT
BEGIN:VEVENT
DTSTART;TZID=America/Los_Angeles:20220115T100000
DTEND;TZID=America/Los_Angeles:20220115T120000
DTSTAMP:20260423T094148
CREATED:20230621T072736Z
LAST-MODIFIED:20230621T072736Z
UID:4388-1642240800-1642248000@staciasbls.org
SUMMARY:Donations to Support Solutions Mobile Shower Program
DESCRIPTION:It’s time to start the New Year off with a new event! The first organization we will be helping in 2022 is the Support Solutions Mobile Shower Program (www.supportsolutionssgv.org) Through their amazing hardwork\, they run mobile showers for the homeless and provide essentials such as personal hygiene products. We will be collecting items such as travel toothbrushes\, toothpaste\, underwear\, socks\, etc to bring to their shower location in Covina\, CA. \nFor more information\, please contact us at staciasbls@gmail.com or through our website\, under “Contact”.
URL:https://staciasbls.org/event/donations-to-support-solutions-mobile-shower-program/
LOCATION:Covina Shower Site @ Family Christian Church\, 4830 N Vincent Avenue\, Covina\, CA\, 91722\, United States
CATEGORIES:Community Engagement,Donation Drive
ATTACH;FMTTYPE=image/jpeg:https://staciasbls.org/wp-content/uploads/2023/06/supportsolutions-1.jpg
ORGANIZER;CN="Stacia's Brite Little Something":MAILTO:staciasbls@gmail.com
END:VEVENT
BEGIN:VEVENT
DTSTART;VALUE=DATE:20211101
DTEND;VALUE=DATE:20220101
DTSTAMP:20260423T094148
CREATED:20230621T075423Z
LAST-MODIFIED:20230621T075423Z
UID:4403-1635724800-1640995199@staciasbls.org
SUMMARY:Double Header Donation Drive - Support Solutions Homeless Services & Social Work Action Group (SWAG)
DESCRIPTION:Hello Sloth Army Crews!!!!!!\n\nAs you know\, we are heading to the end of the year and we have one last chance to help out before we start anew in January. Therefore\, for the next several weeks\, we will be collecting supplies to help out two organizations that are working to help the homeless.\n\nThe first program is called: Support Solutions Homeless Services (https://www.supportsolutionssgv.org) and the work they are doing with their Mobile Shower Program. As a part of this work\, we are looking to collect donations related to hygiene. Below is a list of items they have requested\, if you are able to assist.\n\nToothbrush\, Toothpaste\, Soap\, Shampoo\, Lotion\, Razors\, Shaving Cream\, Foot Powder\, Sanitizer\, Feminine Hygiene\, Deodorant\, Wet Wipes\, Men’s Underwear\, Women’s Underwear\, and Sports Bras.\n\nThe second program is called: Social Work Action Group (SWAG)  (https://www.theswag.org) and they are assisting homeless individuals and working to get them off the streets. As a part of their program\, we are looking to collection donations related to:\n\nMen’s Boxers and Food Gift Cards in $10 increments.\n\nThe gift cards have been a beneficial way for these social works to help out those in need and build a stronger network of communication and trust.\n\nIf you are able to donate or help out\, you can send donations and supplies to:\n\nStacia’s Brite Little Something\n29735 Brookfield Drive\nMenifee\, CA 92586\n\nThank you to all those who have support our causes over the last year and have helped us to assist others in the name of Stacia Danford!
URL:https://staciasbls.org/event/double-header-donation-drive-support-solutions-homeless-services-social-work-action-group-swag/
LOCATION:Donation Drive Location\, 29735 Brookfield Drive\, Menifee\, CA\, 92586\, United States
CATEGORIES:Donation Drive
ATTACH;FMTTYPE=image/jpeg:https://staciasbls.org/wp-content/uploads/2023/06/doubleheader-drive.jpg
ORGANIZER;CN="Stacia's Brite Little Something":MAILTO:staciasbls@gmail.com
END:VEVENT
BEGIN:VEVENT
DTSTART;TZID=America/Los_Angeles:20211015T083000
DTEND;TZID=America/Los_Angeles:20211015T110000
DTSTAMP:20260423T094148
CREATED:20230621T074839Z
LAST-MODIFIED:20230621T074839Z
UID:4401-1634286600-1634295600@staciasbls.org
SUMMARY:Boys & Girls Clubs of Inland Valley Donation Drop-Off Event
DESCRIPTION:The members of Stacia’s Brite Little Something  Sloth Army are on the move again. We are finishing up the last of all the donations that were collected for the Boys and Girls Club of Inland Valley and we are scheduled for a drop-off this Friday\, October 15th at 10:00 AM. If you would like to join us\, please come by at 8:30 AM to the meeting spot to assist with loading up the vehicles with the donated supplies. We hope to see you there!!!!!
URL:https://staciasbls.org/event/boys-girls-clubs-of-inland-valley-donation-drop-off-event/
LOCATION:Donation Drive Location\, 29735 Brookfield Drive\, Menifee\, CA\, 92586\, United States
CATEGORIES:Community Engagement,Donation Drive
ATTACH;FMTTYPE=image/png:https://staciasbls.org/wp-content/uploads/2023/06/boysandgirlsclubs.png
ORGANIZER;CN="Stacia's Brite Little Something":MAILTO:staciasbls@gmail.com
END:VEVENT
BEGIN:VEVENT
DTSTART;TZID=America/Los_Angeles:20210814T110000
DTEND;TZID=America/Los_Angeles:20210814T130000
DTSTAMP:20260423T094148
CREATED:20230621T074214Z
LAST-MODIFIED:20230621T074214Z
UID:4397-1628938800-1628946000@staciasbls.org
SUMMARY:Boys & Girls Clubs of Inland Valley – Drive-Thru Donation Event!
DESCRIPTION:We are having another drive-thru donation drive\, this time in support of our drive to benefit the Boys & Girls Clubs of Inland Valley. We hope to see you all out there and lets help get the children ready for the new school year!
URL:https://staciasbls.org/event/boys-girls-clubs-of-inland-valley-drive-thru-donation-event/
LOCATION:Donation Drive Location\, 29735 Brookfield Drive\, Menifee\, CA\, 92586\, United States
CATEGORIES:Donation Drive
ATTACH;FMTTYPE=image/jpeg:https://staciasbls.org/wp-content/uploads/2023/06/donation-box.jpeg
ORGANIZER;CN="Stacia's Brite Little Something":MAILTO:staciasbls@gmail.com
END:VEVENT
BEGIN:VEVENT
DTSTART;VALUE=DATE:20210801
DTEND;VALUE=DATE:20211001
DTSTAMP:20260423T094148
CREATED:20230621T073628Z
LAST-MODIFIED:20230621T073628Z
UID:4395-1627776000-1633046399@staciasbls.org
SUMMARY:August & September 2021 - Donation Drive to Benefit the Boys & Girls Clubs of Inland Valley
DESCRIPTION:For the month’s of August and September\, we are collecting donations for back to school supplies to benefit the Boys and Girls Clubs of Inland Valley (http://menifeebgc.org/). Items on their wishlist include:\n\n\n\n\nDisposable masks\nSanitizers\nWater bottles for kids\nConstruction paper\nLoose glitter\nCanvases\nCrayons/colored pencils\nMarkers\nNotebooks\nPencil pouches\nBoard games\nAny STEM supplies or kits
URL:https://staciasbls.org/event/august-september-2021-donation-drive-to-benefit-the-boys-girls-clubs-of-inland-valley/
CATEGORIES:Donation Drive
ATTACH;FMTTYPE=image/png:https://staciasbls.org/wp-content/uploads/2023/06/boysandgirlsclubs.png
ORGANIZER;CN="Stacia's Brite Little Something":MAILTO:staciasbls@gmail.com
END:VEVENT
BEGIN:VEVENT
DTSTART;TZID=America/Los_Angeles:20210605T110000
DTEND;TZID=America/Los_Angeles:20210605T140000
DTSTAMP:20260423T094148
CREATED:20230621T072323Z
LAST-MODIFIED:20230621T072323Z
UID:4385-1622890800-1622901600@staciasbls.org
SUMMARY:Christmas in July - Drive-Thru Donation Event!
DESCRIPTION:We are hosting a drive-thru donation event in support of our Christmas in July donation drive! Swing by for food\, fun\, and prizes! Every item donated gets a ticket in our raffle! Or you can “buy a donation” for $1 per item! All proceeds will go to purchasing more items to donate to the City of Hope in Duarte\, CA. \nFor more information\, please contact us at staciasbls@gmail.com or through our website\, under “Contact”.
URL:https://staciasbls.org/event/christmas-in-july-drive-thru-donation-event/
LOCATION:Donation Drive Location\, 29735 Brookfield Drive\, Menifee\, CA\, 92586\, United States
CATEGORIES:Donation Drive,Fundraiser
ATTACH;FMTTYPE=image/png:https://staciasbls.org/wp-content/uploads/2023/06/stacia-xmas.png
END:VEVENT
BEGIN:VEVENT
DTSTART;VALUE=DATE:20210501
DTEND;VALUE=DATE:20210701
DTSTAMP:20260423T094148
CREATED:20230621T071933Z
LAST-MODIFIED:20230621T072358Z
UID:4382-1619827200-1625097599@staciasbls.org
SUMMARY:May & June 2021 - Donations to Benefit the City of Hope
DESCRIPTION:During Stacia’s fight\, she received world-class treatment at the City of Hope in Duarte\, CA. Their team of doctors\, nurses\, and specialists provided her with round-the-clock care and treatment. The City of Hope’s pediatric department has provided us with a list of needs that we would love to help them with; we will be collecting the items throughout the months of May and June to be delivered at the beginning of July… it will be Christmas in July! Items include: \n\nColored pencils\nColored pens\nAdult coloring books\nCrossword puzzles\nWord search puzzles/games\nOther types of entertainment that can be used for pediatric and teen patients\n\nDonations of these items can be dropped off or mailed to the following addresses (either in-person or shipped through online retailers): \n\nSteve & Stephanie Vaughn\, 30432 Canyon Point Circle\, Menifee\, CA 92584\nJames Danford\, 29735 Brookfield Drive\, Menifee\, CA 92584\nStarla Smith\, 335 1/2 Park Avenue\, Long Beach\, CA 90814\n\nIf you have any questions\, please do not hesitate to contact us at staciasbls@gmail.com.
URL:https://staciasbls.org/event/may-june-2021-donations-to-benefit-the-city-of-hope/
CATEGORIES:Donation Drive
ATTACH;FMTTYPE=image/png:https://staciasbls.org/wp-content/uploads/2023/06/City-of-hope.png
ORGANIZER;CN="Stacia's Brite Little Something":MAILTO:staciasbls@gmail.com
END:VEVENT
BEGIN:VEVENT
DTSTART;TZID=America/Los_Angeles:20210403T083000
DTEND;TZID=America/Los_Angeles:20210403T153000
DTSTAMP:20260423T094148
CREATED:20230621T071600Z
LAST-MODIFIED:20230621T072027Z
UID:4377-1617438600-1617463800@staciasbls.org
SUMMARY:Pet Supplies Donation Day!
DESCRIPTION:The pet supplies will be donated to the following animal rescues: \n\nA Passion for Paws (10:00 AM) – 28930 Ellis Avenue\, Romoland\, CA 92585\nARE Animal Rescue (12:00 PM) – 101 E. Florida Avenue\, Hemet\, CA 92543\nRetrievers and Friends (2:00 PM) – 26510 Murrieta Road\, Menifee\, CA 92585\n\nVolunteers are asked to meet at 29735 Brookfield Drive\, Menifee\, CA 92586 between 8:30 – 9:00 AM to help load vehicles and to receive instructions.
URL:https://staciasbls.org/event/pet-supplies-donation-day/
LOCATION:Pet Donation Meet-Up Location\, 29735 Brookfield Drive\, Menifee\, CA\, 92586\, United States
CATEGORIES:Donation Drive
ATTACH;FMTTYPE=image/jpeg:https://staciasbls.org/wp-content/uploads/2023/06/stacia-coc.jpg
ORGANIZER;CN="Stacia's Brite Little Something":MAILTO:staciasbls@gmail.com
END:VEVENT
BEGIN:VEVENT
DTSTART;VALUE=DATE:20210401
DTEND;VALUE=DATE:20210501
DTSTAMP:20260423T094148
CREATED:20230621T071255Z
LAST-MODIFIED:20230621T071255Z
UID:4375-1617235200-1619827199@staciasbls.org
SUMMARY:April 2021 - Random Acts of Kindness
DESCRIPTION:The theme for April 2021 is “Random Acts of Kindness”. Whether it’s picking up the tab for the person behind you in the drive-thru\, helping your neighbor with some yardwork\, or even sending a text to friend or family member who needs some uplifting\, let’s go out of our way to help brighten someone’s day.
URL:https://staciasbls.org/event/april-2021-random-acts-of-kindness/
CATEGORIES:Community Engagement
ATTACH;FMTTYPE=image/jpeg:https://staciasbls.org/wp-content/uploads/2017/10/Screenshot_20210429-212952_Facebook-e1687242409280.jpg
ORGANIZER;CN="Stacia's Brite Little Something":MAILTO:staciasbls@gmail.com
END:VEVENT
END:VCALENDAR