BEGIN:VCALENDAR
VERSION:2.0
PRODID:-//Stacia&#039;s Brite Little Something - ECPv6.15.20//NONSGML v1.0//EN
CALSCALE:GREGORIAN
METHOD:PUBLISH
X-WR-CALNAME:Stacia&#039;s Brite Little Something
X-ORIGINAL-URL:https://staciasbls.org
X-WR-CALDESC:Events for Stacia&#039;s Brite Little Something
REFRESH-INTERVAL;VALUE=DURATION:PT1H
X-Robots-Tag:noindex
X-PUBLISHED-TTL:PT1H
BEGIN:VTIMEZONE
TZID:America/Los_Angeles
BEGIN:DAYLIGHT
TZOFFSETFROM:-0800
TZOFFSETTO:-0700
TZNAME:PDT
DTSTART:20200308T100000
END:DAYLIGHT
BEGIN:STANDARD
TZOFFSETFROM:-0700
TZOFFSETTO:-0800
TZNAME:PST
DTSTART:20201101T090000
END:STANDARD
BEGIN:DAYLIGHT
TZOFFSETFROM:-0800
TZOFFSETTO:-0700
TZNAME:PDT
DTSTART:20210314T100000
END:DAYLIGHT
BEGIN:STANDARD
TZOFFSETFROM:-0700
TZOFFSETTO:-0800
TZNAME:PST
DTSTART:20211107T090000
END:STANDARD
BEGIN:DAYLIGHT
TZOFFSETFROM:-0800
TZOFFSETTO:-0700
TZNAME:PDT
DTSTART:20220313T100000
END:DAYLIGHT
BEGIN:STANDARD
TZOFFSETFROM:-0700
TZOFFSETTO:-0800
TZNAME:PST
DTSTART:20221106T090000
END:STANDARD
END:VTIMEZONE
BEGIN:VEVENT
DTSTART;VALUE=DATE:20210501
DTEND;VALUE=DATE:20210701
DTSTAMP:20260423T130302
CREATED:20230621T071933Z
LAST-MODIFIED:20230621T072358Z
UID:4382-1619827200-1625097599@staciasbls.org
SUMMARY:May & June 2021 - Donations to Benefit the City of Hope
DESCRIPTION:During Stacia’s fight\, she received world-class treatment at the City of Hope in Duarte\, CA. Their team of doctors\, nurses\, and specialists provided her with round-the-clock care and treatment. The City of Hope’s pediatric department has provided us with a list of needs that we would love to help them with; we will be collecting the items throughout the months of May and June to be delivered at the beginning of July… it will be Christmas in July! Items include: \n\nColored pencils\nColored pens\nAdult coloring books\nCrossword puzzles\nWord search puzzles/games\nOther types of entertainment that can be used for pediatric and teen patients\n\nDonations of these items can be dropped off or mailed to the following addresses (either in-person or shipped through online retailers): \n\nSteve & Stephanie Vaughn\, 30432 Canyon Point Circle\, Menifee\, CA 92584\nJames Danford\, 29735 Brookfield Drive\, Menifee\, CA 92584\nStarla Smith\, 335 1/2 Park Avenue\, Long Beach\, CA 90814\n\nIf you have any questions\, please do not hesitate to contact us at staciasbls@gmail.com.
URL:https://staciasbls.org/event/may-june-2021-donations-to-benefit-the-city-of-hope/
LOCATION:CA
CATEGORIES:Donation Drive
ATTACH;FMTTYPE=image/png:https://staciasbls.org/wp-content/uploads/2023/06/City-of-hope.png
ORGANIZER;CN="Stacia's Brite Little Something":MAILTO:staciasbls@gmail.com
END:VEVENT
BEGIN:VEVENT
DTSTART;TZID=America/Los_Angeles:20210403T083000
DTEND;TZID=America/Los_Angeles:20210403T153000
DTSTAMP:20260423T130302
CREATED:20230621T071600Z
LAST-MODIFIED:20230621T072027Z
UID:4377-1617438600-1617463800@staciasbls.org
SUMMARY:Pet Supplies Donation Day!
DESCRIPTION:The pet supplies will be donated to the following animal rescues: \n\nA Passion for Paws (10:00 AM) – 28930 Ellis Avenue\, Romoland\, CA 92585\nARE Animal Rescue (12:00 PM) – 101 E. Florida Avenue\, Hemet\, CA 92543\nRetrievers and Friends (2:00 PM) – 26510 Murrieta Road\, Menifee\, CA 92585\n\nVolunteers are asked to meet at 29735 Brookfield Drive\, Menifee\, CA 92586 between 8:30 – 9:00 AM to help load vehicles and to receive instructions.
URL:https://staciasbls.org/event/pet-supplies-donation-day/
LOCATION:Pet Donation Meet-Up Location\, 29735 Brookfield Drive\, Menifee\, CA\, 92586\, United States
CATEGORIES:Donation Drive
ATTACH;FMTTYPE=image/jpeg:https://staciasbls.org/wp-content/uploads/2023/06/stacia-coc.jpg
ORGANIZER;CN="Stacia's Brite Little Something":MAILTO:staciasbls@gmail.com
END:VEVENT
BEGIN:VEVENT
DTSTART;VALUE=DATE:20210401
DTEND;VALUE=DATE:20210501
DTSTAMP:20260423T130302
CREATED:20230621T071255Z
LAST-MODIFIED:20230621T071255Z
UID:4375-1617235200-1619827199@staciasbls.org
SUMMARY:April 2021 - Random Acts of Kindness
DESCRIPTION:The theme for April 2021 is “Random Acts of Kindness”. Whether it’s picking up the tab for the person behind you in the drive-thru\, helping your neighbor with some yardwork\, or even sending a text to friend or family member who needs some uplifting\, let’s go out of our way to help brighten someone’s day.
URL:https://staciasbls.org/event/april-2021-random-acts-of-kindness/
LOCATION:CA
CATEGORIES:Community Engagement
ATTACH;FMTTYPE=image/jpeg:https://staciasbls.org/wp-content/uploads/2017/10/Screenshot_20210429-212952_Facebook-e1687242409280.jpg
ORGANIZER;CN="Stacia's Brite Little Something":MAILTO:staciasbls@gmail.com
END:VEVENT
END:VCALENDAR